BEGIN:VCALENDAR
VERSION:2.0
PRODID:-//museumsofsenb.ca - ECPv6.15.20//NONSGML v1.0//EN
CALSCALE:GREGORIAN
METHOD:PUBLISH
X-WR-CALNAME:museumsofsenb.ca
X-ORIGINAL-URL:https://museumsofsenb.ca
X-WR-CALDESC:Events for museumsofsenb.ca
REFRESH-INTERVAL;VALUE=DURATION:PT1H
X-Robots-Tag:noindex
X-PUBLISHED-TTL:PT1H
BEGIN:VTIMEZONE
TZID:America/Halifax
BEGIN:DAYLIGHT
TZOFFSETFROM:-0400
TZOFFSETTO:-0300
TZNAME:ADT
DTSTART:20240310T060000
END:DAYLIGHT
BEGIN:STANDARD
TZOFFSETFROM:-0300
TZOFFSETTO:-0400
TZNAME:AST
DTSTART:20241103T050000
END:STANDARD
BEGIN:DAYLIGHT
TZOFFSETFROM:-0400
TZOFFSETTO:-0300
TZNAME:ADT
DTSTART:20250309T060000
END:DAYLIGHT
BEGIN:STANDARD
TZOFFSETFROM:-0300
TZOFFSETTO:-0400
TZNAME:AST
DTSTART:20251102T050000
END:STANDARD
BEGIN:DAYLIGHT
TZOFFSETFROM:-0400
TZOFFSETTO:-0300
TZNAME:ADT
DTSTART:20260308T060000
END:DAYLIGHT
BEGIN:STANDARD
TZOFFSETFROM:-0300
TZOFFSETTO:-0400
TZNAME:AST
DTSTART:20261101T050000
END:STANDARD
BEGIN:DAYLIGHT
TZOFFSETFROM:-0400
TZOFFSETTO:-0300
TZNAME:ADT
DTSTART:20270314T060000
END:DAYLIGHT
BEGIN:STANDARD
TZOFFSETFROM:-0300
TZOFFSETTO:-0400
TZNAME:AST
DTSTART:20271107T050000
END:STANDARD
END:VTIMEZONE
BEGIN:VEVENT
DTSTART;TZID=America/Halifax:20260503T120000
DTEND;TZID=America/Halifax:20260503T170000
DTSTAMP:20260421T163012
CREATED:20260420T144111Z
LAST-MODIFIED:20260420T145400Z
UID:10000155-1777809600-1777827600@museumsofsenb.ca
SUMMARY:DISCOVERY LABS
DESCRIPTION:Resurgo Place is once again teaming up with community friends to offer something special on SUNDAYS in the Spring! \nFrom SCIENCE\, NATURE\, TECHNOLOGY\, ARTS and HISTORY\, each edition will feature a different theme for the whole family to explore and discover. \n👉 No registration required!\n👉 Activity included with paid admission. \nSee details here: Discovery Labs
URL:https://museumsofsenb.ca/event/discovery-labs/2026-05-03/
LOCATION:Resurgo Place\, 20 Mountain Rd.\, Moncton\, New Brunswick\, E1C 2J8\, Canada
ATTACH;FMTTYPE=image/png:https://museumsofsenb.ca/wp-content/uploads/2026/04/Discovery-Labs-Facebook.png
END:VEVENT
BEGIN:VEVENT
DTSTART;TZID=America/Halifax:20260426T120000
DTEND;TZID=America/Halifax:20260426T170000
DTSTAMP:20260421T163012
CREATED:20260420T145848Z
LAST-MODIFIED:20260420T145848Z
UID:10000158-1777204800-1777222800@museumsofsenb.ca
SUMMARY:DISCOVERY LABS
DESCRIPTION:Resurgo Place is once again teaming up with community friends to offer something special on SUNDAYS in the Spring! \nFrom SCIENCE\, NATURE\, TECHNOLOGY\, ARTS and HISTORY\, each edition will feature a different theme for the whole family to explore and discover. \n👉 No registration required!\n👉 Activity included with paid admission. \nSee details here: Discovery Labs
URL:https://museumsofsenb.ca/event/discovery-labs-2/
LOCATION:Resurgo Place\, 20 Mountain Rd.\, Moncton\, New Brunswick\, E1C 2J8\, Canada
ATTACH;FMTTYPE=image/png:https://museumsofsenb.ca/wp-content/uploads/2026/04/Discovery-Labs-Facebook.png
END:VEVENT
BEGIN:VEVENT
DTSTART;TZID=America/Halifax:20260423T183000
DTEND;TZID=America/Halifax:20260423T200000
DTSTAMP:20260421T163012
CREATED:20260420T143530Z
LAST-MODIFIED:20260420T143530Z
UID:10000150-1776969000-1776974400@museumsofsenb.ca
SUMMARY:From Shutter to Stamp: A History of Real Photo Postcards
DESCRIPTION:With the creation of the Model 3A Brownie folding camera in 1909\, Kodak allowed everyday people to photograph and create their own real photo postcards that were sent to friends and family all over the world. \nA lifelong collector and historian\, Brenda will talk about the history of real photo postcards\, the NB photographers that created them and will share some of the unique RPPCs in her collection from Southern New Brunswick including Westmorland and Albert Counties. \nBrenda P. Orr\, Retired Director of Resurgo Place\, Culture and Heritage\, City of Moncton\, Chair of the New Brunswick Museum Foundation \nFree: No registration required!
URL:https://museumsofsenb.ca/event/from-shutter-to-stamp-a-history-of-real-photo-postcards/
LOCATION:Resurgo Place\, 20 Mountain Rd.\, Moncton\, New Brunswick\, E1C 2J8\, Canada
ATTACH;FMTTYPE=image/png:https://museumsofsenb.ca/wp-content/uploads/2026/04/Brenda-Orr-EN.png
END:VEVENT
BEGIN:VEVENT
DTSTART;TZID=America/Halifax:20260419T120000
DTEND;TZID=America/Halifax:20260419T170000
DTSTAMP:20260421T163012
CREATED:20260420T144111Z
LAST-MODIFIED:20260420T145400Z
UID:10000157-1776600000-1776618000@museumsofsenb.ca
SUMMARY:DISCOVERY LABS
DESCRIPTION:Resurgo Place is once again teaming up with community friends to offer something special on SUNDAYS in the Spring! \nFrom SCIENCE\, NATURE\, TECHNOLOGY\, ARTS and HISTORY\, each edition will feature a different theme for the whole family to explore and discover. \n👉 No registration required!\n👉 Activity included with paid admission. \nSee details here: Discovery Labs
URL:https://museumsofsenb.ca/event/discovery-labs/2026-04-19/
LOCATION:Resurgo Place\, 20 Mountain Rd.\, Moncton\, New Brunswick\, E1C 2J8\, Canada
ATTACH;FMTTYPE=image/png:https://museumsofsenb.ca/wp-content/uploads/2026/04/Discovery-Labs-Facebook.png
END:VEVENT
BEGIN:VEVENT
DTSTART;TZID=America/Halifax:20260412T120000
DTEND;TZID=America/Halifax:20260412T170000
DTSTAMP:20260421T163012
CREATED:20260420T144111Z
LAST-MODIFIED:20260420T145400Z
UID:10000153-1775995200-1776013200@museumsofsenb.ca
SUMMARY:DISCOVERY LABS
DESCRIPTION:Resurgo Place is once again teaming up with community friends to offer something special on SUNDAYS in the Spring! \nFrom SCIENCE\, NATURE\, TECHNOLOGY\, ARTS and HISTORY\, each edition will feature a different theme for the whole family to explore and discover. \n👉 No registration required!\n👉 Activity included with paid admission. \nSee details here: Discovery Labs
URL:https://museumsofsenb.ca/event/discovery-labs/2026-04-12/
LOCATION:Resurgo Place\, 20 Mountain Rd.\, Moncton\, New Brunswick\, E1C 2J8\, Canada
ATTACH;FMTTYPE=image/png:https://museumsofsenb.ca/wp-content/uploads/2026/04/Discovery-Labs-Facebook.png
END:VEVENT
BEGIN:VEVENT
DTSTART;TZID=America/Halifax:20260329T120000
DTEND;TZID=America/Halifax:20260329T170000
DTSTAMP:20260421T163012
CREATED:20260420T144111Z
LAST-MODIFIED:20260420T145400Z
UID:10000152-1774785600-1774803600@museumsofsenb.ca
SUMMARY:DISCOVERY LABS
DESCRIPTION:Resurgo Place is once again teaming up with community friends to offer something special on SUNDAYS in the Spring! \nFrom SCIENCE\, NATURE\, TECHNOLOGY\, ARTS and HISTORY\, each edition will feature a different theme for the whole family to explore and discover. \n👉 No registration required!\n👉 Activity included with paid admission. \nSee details here: Discovery Labs
URL:https://museumsofsenb.ca/event/discovery-labs/2026-03-29/
LOCATION:Resurgo Place\, 20 Mountain Rd.\, Moncton\, New Brunswick\, E1C 2J8\, Canada
ATTACH;FMTTYPE=image/png:https://museumsofsenb.ca/wp-content/uploads/2026/04/Discovery-Labs-Facebook.png
END:VEVENT
BEGIN:VEVENT
DTSTART;TZID=America/Halifax:20260322T120000
DTEND;TZID=America/Halifax:20260322T170000
DTSTAMP:20260421T163012
CREATED:20260420T144111Z
LAST-MODIFIED:20260420T145400Z
UID:10000151-1774180800-1774198800@museumsofsenb.ca
SUMMARY:DISCOVERY LABS
DESCRIPTION:Resurgo Place is once again teaming up with community friends to offer something special on SUNDAYS in the Spring! \nFrom SCIENCE\, NATURE\, TECHNOLOGY\, ARTS and HISTORY\, each edition will feature a different theme for the whole family to explore and discover. \n👉 No registration required!\n👉 Activity included with paid admission. \nSee details here: Discovery Labs
URL:https://museumsofsenb.ca/event/discovery-labs/2026-03-22/
LOCATION:Resurgo Place\, 20 Mountain Rd.\, Moncton\, New Brunswick\, E1C 2J8\, Canada
ATTACH;FMTTYPE=image/png:https://museumsofsenb.ca/wp-content/uploads/2026/04/Discovery-Labs-Facebook.png
END:VEVENT
BEGIN:VEVENT
DTSTART;TZID=America/Halifax:20251213T130000
DTEND;TZID=America/Halifax:20251213T160000
DTSTAMP:20260421T163012
CREATED:20250207T160026Z
LAST-MODIFIED:20250207T160858Z
UID:10000037-1765630800-1765641600@museumsofsenb.ca
SUMMARY:Monthly Repair cafe
DESCRIPTION:MONTHLY REPAIR CAFE\nSecond Saturday of each month\n1 PM – 4 PM \nDo you have broken items that you wish could be repaired? Join our friends from RepairVerse for their monthly Repair Cafe at Resurgo Place in Moncton! For each event\, they will specify the services and expertise available\, which may vary based on the availability of volunteers\, their skill sets\, and their comfort levels with different challenges. 🛠️
URL:https://museumsofsenb.ca/event/monthly-repair-cafe/2025-12-13/
LOCATION:New Brunswick
ATTACH;FMTTYPE=image/png:https://museumsofsenb.ca/wp-content/uploads/2025/02/Repair-Cafe-Event.png
END:VEVENT
BEGIN:VEVENT
DTSTART;TZID=America/Halifax:20251108T130000
DTEND;TZID=America/Halifax:20251108T160000
DTSTAMP:20260421T163012
CREATED:20250207T160026Z
LAST-MODIFIED:20250207T160858Z
UID:10000036-1762606800-1762617600@museumsofsenb.ca
SUMMARY:Monthly Repair cafe
DESCRIPTION:MONTHLY REPAIR CAFE\nSecond Saturday of each month\n1 PM – 4 PM \nDo you have broken items that you wish could be repaired? Join our friends from RepairVerse for their monthly Repair Cafe at Resurgo Place in Moncton! For each event\, they will specify the services and expertise available\, which may vary based on the availability of volunteers\, their skill sets\, and their comfort levels with different challenges. 🛠️
URL:https://museumsofsenb.ca/event/monthly-repair-cafe/2025-11-08/
LOCATION:New Brunswick
ATTACH;FMTTYPE=image/png:https://museumsofsenb.ca/wp-content/uploads/2025/02/Repair-Cafe-Event.png
END:VEVENT
BEGIN:VEVENT
DTSTART;TZID=America/Halifax:20251011T130000
DTEND;TZID=America/Halifax:20251011T160000
DTSTAMP:20260421T163012
CREATED:20250207T160026Z
LAST-MODIFIED:20250207T160858Z
UID:10000035-1760187600-1760198400@museumsofsenb.ca
SUMMARY:Monthly Repair cafe
DESCRIPTION:MONTHLY REPAIR CAFE\nSecond Saturday of each month\n1 PM – 4 PM \nDo you have broken items that you wish could be repaired? Join our friends from RepairVerse for their monthly Repair Cafe at Resurgo Place in Moncton! For each event\, they will specify the services and expertise available\, which may vary based on the availability of volunteers\, their skill sets\, and their comfort levels with different challenges. 🛠️
URL:https://museumsofsenb.ca/event/monthly-repair-cafe/2025-10-11/
LOCATION:New Brunswick
ATTACH;FMTTYPE=image/png:https://museumsofsenb.ca/wp-content/uploads/2025/02/Repair-Cafe-Event.png
END:VEVENT
BEGIN:VEVENT
DTSTART;TZID=America/Halifax:20250913T130000
DTEND;TZID=America/Halifax:20250913T160000
DTSTAMP:20260421T163012
CREATED:20250207T160026Z
LAST-MODIFIED:20250207T160858Z
UID:10000034-1757768400-1757779200@museumsofsenb.ca
SUMMARY:Monthly Repair cafe
DESCRIPTION:MONTHLY REPAIR CAFE\nSecond Saturday of each month\n1 PM – 4 PM \nDo you have broken items that you wish could be repaired? Join our friends from RepairVerse for their monthly Repair Cafe at Resurgo Place in Moncton! For each event\, they will specify the services and expertise available\, which may vary based on the availability of volunteers\, their skill sets\, and their comfort levels with different challenges. 🛠️
URL:https://museumsofsenb.ca/event/monthly-repair-cafe/2025-09-13/
LOCATION:New Brunswick
ATTACH;FMTTYPE=image/png:https://museumsofsenb.ca/wp-content/uploads/2025/02/Repair-Cafe-Event.png
END:VEVENT
BEGIN:VEVENT
DTSTART;TZID=America/Halifax:20250809T130000
DTEND;TZID=America/Halifax:20250809T160000
DTSTAMP:20260421T163012
CREATED:20250207T160026Z
LAST-MODIFIED:20250207T160858Z
UID:10000033-1754744400-1754755200@museumsofsenb.ca
SUMMARY:Monthly Repair cafe
DESCRIPTION:MONTHLY REPAIR CAFE\nSecond Saturday of each month\n1 PM – 4 PM \nDo you have broken items that you wish could be repaired? Join our friends from RepairVerse for their monthly Repair Cafe at Resurgo Place in Moncton! For each event\, they will specify the services and expertise available\, which may vary based on the availability of volunteers\, their skill sets\, and their comfort levels with different challenges. 🛠️
URL:https://museumsofsenb.ca/event/monthly-repair-cafe/2025-08-09/
LOCATION:New Brunswick
ATTACH;FMTTYPE=image/png:https://museumsofsenb.ca/wp-content/uploads/2025/02/Repair-Cafe-Event.png
END:VEVENT
BEGIN:VEVENT
DTSTART;TZID=America/Halifax:20250712T130000
DTEND;TZID=America/Halifax:20250712T160000
DTSTAMP:20260421T163012
CREATED:20250207T160026Z
LAST-MODIFIED:20250207T160858Z
UID:10000032-1752325200-1752336000@museumsofsenb.ca
SUMMARY:Monthly Repair cafe
DESCRIPTION:MONTHLY REPAIR CAFE\nSecond Saturday of each month\n1 PM – 4 PM \nDo you have broken items that you wish could be repaired? Join our friends from RepairVerse for their monthly Repair Cafe at Resurgo Place in Moncton! For each event\, they will specify the services and expertise available\, which may vary based on the availability of volunteers\, their skill sets\, and their comfort levels with different challenges. 🛠️
URL:https://museumsofsenb.ca/event/monthly-repair-cafe/2025-07-12/
LOCATION:New Brunswick
ATTACH;FMTTYPE=image/png:https://museumsofsenb.ca/wp-content/uploads/2025/02/Repair-Cafe-Event.png
END:VEVENT
BEGIN:VEVENT
DTSTART;TZID=America/Halifax:20250614T130000
DTEND;TZID=America/Halifax:20250614T160000
DTSTAMP:20260421T163012
CREATED:20250207T160026Z
LAST-MODIFIED:20250207T160858Z
UID:10000031-1749906000-1749916800@museumsofsenb.ca
SUMMARY:Monthly Repair cafe
DESCRIPTION:MONTHLY REPAIR CAFE\nSecond Saturday of each month\n1 PM – 4 PM \nDo you have broken items that you wish could be repaired? Join our friends from RepairVerse for their monthly Repair Cafe at Resurgo Place in Moncton! For each event\, they will specify the services and expertise available\, which may vary based on the availability of volunteers\, their skill sets\, and their comfort levels with different challenges. 🛠️
URL:https://museumsofsenb.ca/event/monthly-repair-cafe/2025-06-14/
LOCATION:New Brunswick
ATTACH;FMTTYPE=image/png:https://museumsofsenb.ca/wp-content/uploads/2025/02/Repair-Cafe-Event.png
END:VEVENT
BEGIN:VEVENT
DTSTART;TZID=America/Halifax:20250510T130000
DTEND;TZID=America/Halifax:20250510T160000
DTSTAMP:20260421T163012
CREATED:20250207T160026Z
LAST-MODIFIED:20250207T160858Z
UID:10000030-1746882000-1746892800@museumsofsenb.ca
SUMMARY:Monthly Repair cafe
DESCRIPTION:MONTHLY REPAIR CAFE\nSecond Saturday of each month\n1 PM – 4 PM \nDo you have broken items that you wish could be repaired? Join our friends from RepairVerse for their monthly Repair Cafe at Resurgo Place in Moncton! For each event\, they will specify the services and expertise available\, which may vary based on the availability of volunteers\, their skill sets\, and their comfort levels with different challenges. 🛠️
URL:https://museumsofsenb.ca/event/monthly-repair-cafe/2025-05-10/
LOCATION:New Brunswick
ATTACH;FMTTYPE=image/png:https://museumsofsenb.ca/wp-content/uploads/2025/02/Repair-Cafe-Event.png
END:VEVENT
BEGIN:VEVENT
DTSTART;TZID=America/Halifax:20250429T121500
DTEND;TZID=America/Halifax:20250429T130000
DTSTAMP:20260421T163012
CREATED:20250210T191234Z
LAST-MODIFIED:20250210T191928Z
UID:10000097-1745928900-1745931600@museumsofsenb.ca
SUMMARY:T'ai chi & Qigong Classes
DESCRIPTION:MR21 invites the public to take part in T’ai chi & Qigong classes at Place de la Cathédrale from February 18 to April 29\, from 12:15 to 1 p.m.\nFor registration and any questions\, please contact Jean-Marc: \n506-533-9376 \ntaichijme@gmail.com
URL:https://museumsofsenb.ca/event/tai-chi-qigong-classes/2025-04-29/
LOCATION:Monument of Recognition in the 21st century (MR21)\, 224 Saint George Street\, Moncton\, New Brunswick\, E1C 0V1\, Canada
ATTACH;FMTTYPE=image/png:https://museumsofsenb.ca/wp-content/uploads/2025/02/Tai-chi-Qigong.png
END:VEVENT
BEGIN:VEVENT
DTSTART;TZID=America/Halifax:20250422T121500
DTEND;TZID=America/Halifax:20250422T130000
DTSTAMP:20260421T163012
CREATED:20250210T191234Z
LAST-MODIFIED:20250210T191928Z
UID:10000096-1745324100-1745326800@museumsofsenb.ca
SUMMARY:T'ai chi & Qigong Classes
DESCRIPTION:MR21 invites the public to take part in T’ai chi & Qigong classes at Place de la Cathédrale from February 18 to April 29\, from 12:15 to 1 p.m.\nFor registration and any questions\, please contact Jean-Marc: \n506-533-9376 \ntaichijme@gmail.com
URL:https://museumsofsenb.ca/event/tai-chi-qigong-classes/2025-04-22/
LOCATION:Monument of Recognition in the 21st century (MR21)\, 224 Saint George Street\, Moncton\, New Brunswick\, E1C 0V1\, Canada
ATTACH;FMTTYPE=image/png:https://museumsofsenb.ca/wp-content/uploads/2025/02/Tai-chi-Qigong.png
END:VEVENT
BEGIN:VEVENT
DTSTART;TZID=America/Halifax:20250415T121500
DTEND;TZID=America/Halifax:20250415T130000
DTSTAMP:20260421T163012
CREATED:20250210T191234Z
LAST-MODIFIED:20250210T191928Z
UID:10000095-1744719300-1744722000@museumsofsenb.ca
SUMMARY:T'ai chi & Qigong Classes
DESCRIPTION:MR21 invites the public to take part in T’ai chi & Qigong classes at Place de la Cathédrale from February 18 to April 29\, from 12:15 to 1 p.m.\nFor registration and any questions\, please contact Jean-Marc: \n506-533-9376 \ntaichijme@gmail.com
URL:https://museumsofsenb.ca/event/tai-chi-qigong-classes/2025-04-15/
LOCATION:Monument of Recognition in the 21st century (MR21)\, 224 Saint George Street\, Moncton\, New Brunswick\, E1C 0V1\, Canada
ATTACH;FMTTYPE=image/png:https://museumsofsenb.ca/wp-content/uploads/2025/02/Tai-chi-Qigong.png
END:VEVENT
BEGIN:VEVENT
DTSTART;TZID=America/Halifax:20250412T130000
DTEND;TZID=America/Halifax:20250412T160000
DTSTAMP:20260421T163012
CREATED:20250207T160026Z
LAST-MODIFIED:20250207T160858Z
UID:10000029-1744462800-1744473600@museumsofsenb.ca
SUMMARY:Monthly Repair cafe
DESCRIPTION:MONTHLY REPAIR CAFE\nSecond Saturday of each month\n1 PM – 4 PM \nDo you have broken items that you wish could be repaired? Join our friends from RepairVerse for their monthly Repair Cafe at Resurgo Place in Moncton! For each event\, they will specify the services and expertise available\, which may vary based on the availability of volunteers\, their skill sets\, and their comfort levels with different challenges. 🛠️
URL:https://museumsofsenb.ca/event/monthly-repair-cafe/2025-04-12/
LOCATION:New Brunswick
ATTACH;FMTTYPE=image/png:https://museumsofsenb.ca/wp-content/uploads/2025/02/Repair-Cafe-Event.png
END:VEVENT
BEGIN:VEVENT
DTSTART;TZID=America/Halifax:20250408T121500
DTEND;TZID=America/Halifax:20250408T130000
DTSTAMP:20260421T163012
CREATED:20250210T191234Z
LAST-MODIFIED:20250210T191928Z
UID:10000094-1744114500-1744117200@museumsofsenb.ca
SUMMARY:T'ai chi & Qigong Classes
DESCRIPTION:MR21 invites the public to take part in T’ai chi & Qigong classes at Place de la Cathédrale from February 18 to April 29\, from 12:15 to 1 p.m.\nFor registration and any questions\, please contact Jean-Marc: \n506-533-9376 \ntaichijme@gmail.com
URL:https://museumsofsenb.ca/event/tai-chi-qigong-classes/2025-04-08/
LOCATION:Monument of Recognition in the 21st century (MR21)\, 224 Saint George Street\, Moncton\, New Brunswick\, E1C 0V1\, Canada
ATTACH;FMTTYPE=image/png:https://museumsofsenb.ca/wp-content/uploads/2025/02/Tai-chi-Qigong.png
END:VEVENT
BEGIN:VEVENT
DTSTART;TZID=America/Halifax:20250401T121500
DTEND;TZID=America/Halifax:20250401T130000
DTSTAMP:20260421T163012
CREATED:20250210T191234Z
LAST-MODIFIED:20250210T191928Z
UID:10000093-1743509700-1743512400@museumsofsenb.ca
SUMMARY:T'ai chi & Qigong Classes
DESCRIPTION:MR21 invites the public to take part in T’ai chi & Qigong classes at Place de la Cathédrale from February 18 to April 29\, from 12:15 to 1 p.m.\nFor registration and any questions\, please contact Jean-Marc: \n506-533-9376 \ntaichijme@gmail.com
URL:https://museumsofsenb.ca/event/tai-chi-qigong-classes/2025-04-01/
LOCATION:Monument of Recognition in the 21st century (MR21)\, 224 Saint George Street\, Moncton\, New Brunswick\, E1C 0V1\, Canada
ATTACH;FMTTYPE=image/png:https://museumsofsenb.ca/wp-content/uploads/2025/02/Tai-chi-Qigong.png
END:VEVENT
BEGIN:VEVENT
DTSTART;TZID=America/Halifax:20250325T121500
DTEND;TZID=America/Halifax:20250325T130000
DTSTAMP:20260421T163012
CREATED:20250210T191234Z
LAST-MODIFIED:20250210T191928Z
UID:10000092-1742904900-1742907600@museumsofsenb.ca
SUMMARY:T'ai chi & Qigong Classes
DESCRIPTION:MR21 invites the public to take part in T’ai chi & Qigong classes at Place de la Cathédrale from February 18 to April 29\, from 12:15 to 1 p.m.\nFor registration and any questions\, please contact Jean-Marc: \n506-533-9376 \ntaichijme@gmail.com
URL:https://museumsofsenb.ca/event/tai-chi-qigong-classes/2025-03-25/
LOCATION:Monument of Recognition in the 21st century (MR21)\, 224 Saint George Street\, Moncton\, New Brunswick\, E1C 0V1\, Canada
ATTACH;FMTTYPE=image/png:https://museumsofsenb.ca/wp-content/uploads/2025/02/Tai-chi-Qigong.png
END:VEVENT
BEGIN:VEVENT
DTSTART;TZID=America/Halifax:20250318T121500
DTEND;TZID=America/Halifax:20250318T130000
DTSTAMP:20260421T163012
CREATED:20250210T191234Z
LAST-MODIFIED:20250210T191928Z
UID:10000091-1742300100-1742302800@museumsofsenb.ca
SUMMARY:T'ai chi & Qigong Classes
DESCRIPTION:MR21 invites the public to take part in T’ai chi & Qigong classes at Place de la Cathédrale from February 18 to April 29\, from 12:15 to 1 p.m.\nFor registration and any questions\, please contact Jean-Marc: \n506-533-9376 \ntaichijme@gmail.com
URL:https://museumsofsenb.ca/event/tai-chi-qigong-classes/2025-03-18/
LOCATION:Monument of Recognition in the 21st century (MR21)\, 224 Saint George Street\, Moncton\, New Brunswick\, E1C 0V1\, Canada
ATTACH;FMTTYPE=image/png:https://museumsofsenb.ca/wp-content/uploads/2025/02/Tai-chi-Qigong.png
END:VEVENT
BEGIN:VEVENT
DTSTART;TZID=America/Halifax:20250311T121500
DTEND;TZID=America/Halifax:20250311T130000
DTSTAMP:20260421T163012
CREATED:20250210T191234Z
LAST-MODIFIED:20250210T191928Z
UID:10000090-1741695300-1741698000@museumsofsenb.ca
SUMMARY:T'ai chi & Qigong Classes
DESCRIPTION:MR21 invites the public to take part in T’ai chi & Qigong classes at Place de la Cathédrale from February 18 to April 29\, from 12:15 to 1 p.m.\nFor registration and any questions\, please contact Jean-Marc: \n506-533-9376 \ntaichijme@gmail.com
URL:https://museumsofsenb.ca/event/tai-chi-qigong-classes/2025-03-11/
LOCATION:Monument of Recognition in the 21st century (MR21)\, 224 Saint George Street\, Moncton\, New Brunswick\, E1C 0V1\, Canada
ATTACH;FMTTYPE=image/png:https://museumsofsenb.ca/wp-content/uploads/2025/02/Tai-chi-Qigong.png
END:VEVENT
BEGIN:VEVENT
DTSTART;TZID=America/Halifax:20250308T130000
DTEND;TZID=America/Halifax:20250308T160000
DTSTAMP:20260421T163012
CREATED:20250207T160026Z
LAST-MODIFIED:20250207T160858Z
UID:10000028-1741438800-1741449600@museumsofsenb.ca
SUMMARY:Monthly Repair cafe
DESCRIPTION:MONTHLY REPAIR CAFE\nSecond Saturday of each month\n1 PM – 4 PM \nDo you have broken items that you wish could be repaired? Join our friends from RepairVerse for their monthly Repair Cafe at Resurgo Place in Moncton! For each event\, they will specify the services and expertise available\, which may vary based on the availability of volunteers\, their skill sets\, and their comfort levels with different challenges. 🛠️
URL:https://museumsofsenb.ca/event/monthly-repair-cafe/2025-03-08/
LOCATION:New Brunswick
ATTACH;FMTTYPE=image/png:https://museumsofsenb.ca/wp-content/uploads/2025/02/Repair-Cafe-Event.png
END:VEVENT
BEGIN:VEVENT
DTSTART;TZID=America/Halifax:20250304T121500
DTEND;TZID=America/Halifax:20250304T130000
DTSTAMP:20260421T163012
CREATED:20250210T191234Z
LAST-MODIFIED:20250210T191928Z
UID:10000089-1741090500-1741093200@museumsofsenb.ca
SUMMARY:T'ai chi & Qigong Classes
DESCRIPTION:MR21 invites the public to take part in T’ai chi & Qigong classes at Place de la Cathédrale from February 18 to April 29\, from 12:15 to 1 p.m.\nFor registration and any questions\, please contact Jean-Marc: \n506-533-9376 \ntaichijme@gmail.com
URL:https://museumsofsenb.ca/event/tai-chi-qigong-classes/2025-03-04/
LOCATION:Monument of Recognition in the 21st century (MR21)\, 224 Saint George Street\, Moncton\, New Brunswick\, E1C 0V1\, Canada
ATTACH;FMTTYPE=image/png:https://museumsofsenb.ca/wp-content/uploads/2025/02/Tai-chi-Qigong.png
END:VEVENT
BEGIN:VEVENT
DTSTART;TZID=America/Halifax:20250225T121500
DTEND;TZID=America/Halifax:20250225T130000
DTSTAMP:20260421T163012
CREATED:20250210T191234Z
LAST-MODIFIED:20250210T191928Z
UID:10000088-1740485700-1740488400@museumsofsenb.ca
SUMMARY:T'ai chi & Qigong Classes
DESCRIPTION:MR21 invites the public to take part in T’ai chi & Qigong classes at Place de la Cathédrale from February 18 to April 29\, from 12:15 to 1 p.m.\nFor registration and any questions\, please contact Jean-Marc: \n506-533-9376 \ntaichijme@gmail.com
URL:https://museumsofsenb.ca/event/tai-chi-qigong-classes/2025-02-25/
LOCATION:Monument of Recognition in the 21st century (MR21)\, 224 Saint George Street\, Moncton\, New Brunswick\, E1C 0V1\, Canada
ATTACH;FMTTYPE=image/png:https://museumsofsenb.ca/wp-content/uploads/2025/02/Tai-chi-Qigong.png
END:VEVENT
BEGIN:VEVENT
DTSTART;TZID=America/Halifax:20250218T121500
DTEND;TZID=America/Halifax:20250218T130000
DTSTAMP:20260421T163012
CREATED:20250210T191234Z
LAST-MODIFIED:20250210T191928Z
UID:10000087-1739880900-1739883600@museumsofsenb.ca
SUMMARY:T'ai chi & Qigong Classes
DESCRIPTION:MR21 invites the public to take part in T’ai chi & Qigong classes at Place de la Cathédrale from February 18 to April 29\, from 12:15 to 1 p.m.\nFor registration and any questions\, please contact Jean-Marc: \n506-533-9376 \ntaichijme@gmail.com
URL:https://museumsofsenb.ca/event/tai-chi-qigong-classes/2025-02-18/
LOCATION:Monument of Recognition in the 21st century (MR21)\, 224 Saint George Street\, Moncton\, New Brunswick\, E1C 0V1\, Canada
ATTACH;FMTTYPE=image/png:https://museumsofsenb.ca/wp-content/uploads/2025/02/Tai-chi-Qigong.png
END:VEVENT
BEGIN:VEVENT
DTSTART;TZID=America/Halifax:20250208T130000
DTEND;TZID=America/Halifax:20250208T160000
DTSTAMP:20260421T163012
CREATED:20250207T160026Z
LAST-MODIFIED:20250207T160858Z
UID:10000027-1739019600-1739030400@museumsofsenb.ca
SUMMARY:Monthly Repair cafe
DESCRIPTION:MONTHLY REPAIR CAFE\nSecond Saturday of each month\n1 PM – 4 PM \nDo you have broken items that you wish could be repaired? Join our friends from RepairVerse for their monthly Repair Cafe at Resurgo Place in Moncton! For each event\, they will specify the services and expertise available\, which may vary based on the availability of volunteers\, their skill sets\, and their comfort levels with different challenges. 🛠️
URL:https://museumsofsenb.ca/event/monthly-repair-cafe/2025-02-08/
LOCATION:New Brunswick
ATTACH;FMTTYPE=image/png:https://museumsofsenb.ca/wp-content/uploads/2025/02/Repair-Cafe-Event.png
END:VEVENT
BEGIN:VEVENT
DTSTART;TZID=America/Halifax:20250131T100000
DTEND;TZID=America/Halifax:20250228T160000
DTSTAMP:20260421T163012
CREATED:20250129T150441Z
LAST-MODIFIED:20250210T192153Z
UID:10000014-1738317600-1740758400@museumsofsenb.ca
SUMMARY:Albert County Museum Exhibit Opening
DESCRIPTION:In celebration of the Town of Riverview’s 50th Annual Winter Carnival\, the Albert County Museum will be bringing the Mobile Exhibit to the Riverview Town Hall & Public Library from January 31st to February 28th for a month of Albert County history!  We will be on hand with information\, gift shop items\, and ACHS memberships on both January 31st and February 28th between 10am and 4pm. Please drop by 30 Honour House Court and learn more about Albert County’s fascinating history!
URL:https://museumsofsenb.ca/event/albert-county-museum-exhibit-opening/
LOCATION:Riverview Town Hall\, 30 Honour House Court\, Riverview\, New Brunswick\, E1B 3Y9\, Canada
ATTACH;FMTTYPE=image/jpeg:https://museumsofsenb.ca/wp-content/uploads/2025/01/IMG_0212-scaled.jpg
END:VEVENT
END:VCALENDAR