BEGIN:VCALENDAR
VERSION:2.0
PRODID:-//museumsofsenb.ca - ECPv6.15.20//NONSGML v1.0//EN
CALSCALE:GREGORIAN
METHOD:PUBLISH
X-WR-CALNAME:museumsofsenb.ca
X-ORIGINAL-URL:https://museumsofsenb.ca
X-WR-CALDESC:Events for museumsofsenb.ca
REFRESH-INTERVAL;VALUE=DURATION:PT1H
X-Robots-Tag:noindex
X-PUBLISHED-TTL:PT1H
BEGIN:VTIMEZONE
TZID:America/Halifax
BEGIN:DAYLIGHT
TZOFFSETFROM:-0400
TZOFFSETTO:-0300
TZNAME:ADT
DTSTART:20250309T060000
END:DAYLIGHT
BEGIN:STANDARD
TZOFFSETFROM:-0300
TZOFFSETTO:-0400
TZNAME:AST
DTSTART:20251102T050000
END:STANDARD
BEGIN:DAYLIGHT
TZOFFSETFROM:-0400
TZOFFSETTO:-0300
TZNAME:ADT
DTSTART:20260308T060000
END:DAYLIGHT
BEGIN:STANDARD
TZOFFSETFROM:-0300
TZOFFSETTO:-0400
TZNAME:AST
DTSTART:20261101T050000
END:STANDARD
BEGIN:DAYLIGHT
TZOFFSETFROM:-0400
TZOFFSETTO:-0300
TZNAME:ADT
DTSTART:20270314T060000
END:DAYLIGHT
BEGIN:STANDARD
TZOFFSETFROM:-0300
TZOFFSETTO:-0400
TZNAME:AST
DTSTART:20271107T050000
END:STANDARD
END:VTIMEZONE
BEGIN:VEVENT
DTSTART;TZID=America/Halifax:20260423T183000
DTEND;TZID=America/Halifax:20260423T200000
DTSTAMP:20260421T152519
CREATED:20260420T143530Z
LAST-MODIFIED:20260420T143530Z
UID:10000150-1776969000-1776974400@museumsofsenb.ca
SUMMARY:From Shutter to Stamp: A History of Real Photo Postcards
DESCRIPTION:With the creation of the Model 3A Brownie folding camera in 1909\, Kodak allowed everyday people to photograph and create their own real photo postcards that were sent to friends and family all over the world. \nA lifelong collector and historian\, Brenda will talk about the history of real photo postcards\, the NB photographers that created them and will share some of the unique RPPCs in her collection from Southern New Brunswick including Westmorland and Albert Counties. \nBrenda P. Orr\, Retired Director of Resurgo Place\, Culture and Heritage\, City of Moncton\, Chair of the New Brunswick Museum Foundation \nFree: No registration required!
URL:https://museumsofsenb.ca/event/from-shutter-to-stamp-a-history-of-real-photo-postcards/
LOCATION:Resurgo Place\, 20 Mountain Rd.\, Moncton\, New Brunswick\, E1C 2J8\, Canada
ATTACH;FMTTYPE=image/png:https://museumsofsenb.ca/wp-content/uploads/2026/04/Brenda-Orr-EN.png
END:VEVENT
BEGIN:VEVENT
DTSTART;TZID=America/Halifax:20260426T120000
DTEND;TZID=America/Halifax:20260426T170000
DTSTAMP:20260421T152519
CREATED:20260420T145848Z
LAST-MODIFIED:20260420T145848Z
UID:10000158-1777204800-1777222800@museumsofsenb.ca
SUMMARY:DISCOVERY LABS
DESCRIPTION:Resurgo Place is once again teaming up with community friends to offer something special on SUNDAYS in the Spring! \nFrom SCIENCE\, NATURE\, TECHNOLOGY\, ARTS and HISTORY\, each edition will feature a different theme for the whole family to explore and discover. \n👉 No registration required!\n👉 Activity included with paid admission. \nSee details here: Discovery Labs
URL:https://museumsofsenb.ca/event/discovery-labs-2/
LOCATION:Resurgo Place\, 20 Mountain Rd.\, Moncton\, New Brunswick\, E1C 2J8\, Canada
ATTACH;FMTTYPE=image/png:https://museumsofsenb.ca/wp-content/uploads/2026/04/Discovery-Labs-Facebook.png
END:VEVENT
BEGIN:VEVENT
DTSTART;TZID=America/Halifax:20260503T120000
DTEND;TZID=America/Halifax:20260503T170000
DTSTAMP:20260421T152519
CREATED:20260420T144111Z
LAST-MODIFIED:20260420T145400Z
UID:10000155-1777809600-1777827600@museumsofsenb.ca
SUMMARY:DISCOVERY LABS
DESCRIPTION:Resurgo Place is once again teaming up with community friends to offer something special on SUNDAYS in the Spring! \nFrom SCIENCE\, NATURE\, TECHNOLOGY\, ARTS and HISTORY\, each edition will feature a different theme for the whole family to explore and discover. \n👉 No registration required!\n👉 Activity included with paid admission. \nSee details here: Discovery Labs
URL:https://museumsofsenb.ca/event/discovery-labs/2026-05-03/
LOCATION:Resurgo Place\, 20 Mountain Rd.\, Moncton\, New Brunswick\, E1C 2J8\, Canada
ATTACH;FMTTYPE=image/png:https://museumsofsenb.ca/wp-content/uploads/2026/04/Discovery-Labs-Facebook.png
END:VEVENT
BEGIN:VEVENT
DTSTART;TZID=America/Halifax:20260510T120000
DTEND;TZID=America/Halifax:20260510T170000
DTSTAMP:20260421T152519
CREATED:20260420T144111Z
LAST-MODIFIED:20260420T145400Z
UID:10000156-1778414400-1778432400@museumsofsenb.ca
SUMMARY:DISCOVERY LABS
DESCRIPTION:Resurgo Place is once again teaming up with community friends to offer something special on SUNDAYS in the Spring! \nFrom SCIENCE\, NATURE\, TECHNOLOGY\, ARTS and HISTORY\, each edition will feature a different theme for the whole family to explore and discover. \n👉 No registration required!\n👉 Activity included with paid admission. \nSee details here: Discovery Labs
URL:https://museumsofsenb.ca/event/discovery-labs/2026-05-10/
LOCATION:Resurgo Place\, 20 Mountain Rd.\, Moncton\, New Brunswick\, E1C 2J8\, Canada
ATTACH;FMTTYPE=image/png:https://museumsofsenb.ca/wp-content/uploads/2026/04/Discovery-Labs-Facebook.png
END:VEVENT
END:VCALENDAR