BEGIN:VCALENDAR
VERSION:2.0
PRODID:-//museumsofsenb.ca - ECPv6.15.20//NONSGML v1.0//EN
CALSCALE:GREGORIAN
METHOD:PUBLISH
X-WR-CALNAME:museumsofsenb.ca
X-ORIGINAL-URL:https://museumsofsenb.ca
X-WR-CALDESC:Events for museumsofsenb.ca
REFRESH-INTERVAL;VALUE=DURATION:PT1H
X-Robots-Tag:noindex
X-PUBLISHED-TTL:PT1H
BEGIN:VTIMEZONE
TZID:America/Halifax
BEGIN:DAYLIGHT
TZOFFSETFROM:-0400
TZOFFSETTO:-0300
TZNAME:ADT
DTSTART:20230312T060000
END:DAYLIGHT
BEGIN:STANDARD
TZOFFSETFROM:-0300
TZOFFSETTO:-0400
TZNAME:AST
DTSTART:20231105T050000
END:STANDARD
BEGIN:DAYLIGHT
TZOFFSETFROM:-0400
TZOFFSETTO:-0300
TZNAME:ADT
DTSTART:20240310T060000
END:DAYLIGHT
BEGIN:STANDARD
TZOFFSETFROM:-0300
TZOFFSETTO:-0400
TZNAME:AST
DTSTART:20241103T050000
END:STANDARD
BEGIN:DAYLIGHT
TZOFFSETFROM:-0400
TZOFFSETTO:-0300
TZNAME:ADT
DTSTART:20250309T060000
END:DAYLIGHT
BEGIN:STANDARD
TZOFFSETFROM:-0300
TZOFFSETTO:-0400
TZNAME:AST
DTSTART:20251102T050000
END:STANDARD
END:VTIMEZONE
BEGIN:VEVENT
DTSTART;TZID=America/Halifax:20240713T120000
DTEND;TZID=America/Halifax:20240713T160000
DTSTAMP:20260421T201500
CREATED:20240710T192948Z
LAST-MODIFIED:20240710T194959Z
UID:10000002-1720872000-1720886400@museumsofsenb.ca
SUMMARY:Illusion of the Self\, exhibition opening
DESCRIPTION:Keillor House Museum \nDuring the summer of 2024\, the Keillor House Museum (Dorchester\, New Brunswick) is host to an unprecedented artistic exploration. This exhibition project\, conceived by the visual artist Guillaume Adjutor Provost\, grew out of a conversation with the museum’s director\, Keegan Hiltz\, about the revitalization of historical collections through contemporary art practices. \nSoif d’illusion/Illusion of the Self\, presented in the Georgian-style manor built circa 1813\, brings together works by five artists: Kyle Alden Martens\, Karen Tam\, Massimo Guerrera\, Natasha Sacobie\, and Guillaume Adjutor Provost. \nIn a play on translation\, the bilingual title invites reflection on how the perception of self may be shaped by illusions and deep desires. In this respect\, the heavily decorated spaces of the Keillor House Museum\, evidence of its founder’s ambition to conceal his modest origins and typical of Victorian attitudes\, offer an ideal setting for exploring the complexities of personal and collective identity. \nMore info here in Facebook event: \nExhibit Opening – Soif d’illusion / Illusion of the Self | Facebook
URL:https://museumsofsenb.ca/event/illusion-of-the-self-exhibition-opening/
LOCATION:Keillor House Museum\, 4974 Main Street\, Dorchester\, New Brunswick\, E4K 2Z1
ATTACH;FMTTYPE=image/jpeg:https://museumsofsenb.ca/wp-content/uploads/2024/07/Soif-dIllusion-of-the-Self.jpg
END:VEVENT
END:VCALENDAR