BEGIN:VCALENDAR
VERSION:2.0
PRODID:-//museumsofsenb.ca - ECPv6.15.20//NONSGML v1.0//EN
CALSCALE:GREGORIAN
METHOD:PUBLISH
X-WR-CALNAME:museumsofsenb.ca
X-ORIGINAL-URL:https://museumsofsenb.ca
X-WR-CALDESC:Events for museumsofsenb.ca
REFRESH-INTERVAL;VALUE=DURATION:PT1H
X-Robots-Tag:noindex
X-PUBLISHED-TTL:PT1H
BEGIN:VTIMEZONE
TZID:America/Halifax
BEGIN:DAYLIGHT
TZOFFSETFROM:-0400
TZOFFSETTO:-0300
TZNAME:ADT
DTSTART:20230312T060000
END:DAYLIGHT
BEGIN:STANDARD
TZOFFSETFROM:-0300
TZOFFSETTO:-0400
TZNAME:AST
DTSTART:20231105T050000
END:STANDARD
BEGIN:DAYLIGHT
TZOFFSETFROM:-0400
TZOFFSETTO:-0300
TZNAME:ADT
DTSTART:20240310T060000
END:DAYLIGHT
BEGIN:STANDARD
TZOFFSETFROM:-0300
TZOFFSETTO:-0400
TZNAME:AST
DTSTART:20241103T050000
END:STANDARD
BEGIN:DAYLIGHT
TZOFFSETFROM:-0400
TZOFFSETTO:-0300
TZNAME:ADT
DTSTART:20250309T060000
END:DAYLIGHT
BEGIN:STANDARD
TZOFFSETFROM:-0300
TZOFFSETTO:-0400
TZNAME:AST
DTSTART:20251102T050000
END:STANDARD
END:VTIMEZONE
BEGIN:VEVENT
DTSTART;TZID=America/Halifax:20241124T170000
DTEND;TZID=America/Halifax:20241124T180000
DTSTAMP:20260421T232203
CREATED:20241112T145834Z
LAST-MODIFIED:20241112T162918Z
UID:10000006-1732467600-1732471200@museumsofsenb.ca
SUMMARY:Holiday Concert with Ventus Machina
DESCRIPTION:Holiday Concert with Ventus Machina \nSunday\, November 24\, 2024 \n  \nTWO showtimes:  \n5 p.m. – 6 p.m. \n7 p.m. – 8 p.m. \n  \nREGISTRATION is required by end of day November 21st: (506) 856-4327 or info@resurgo.ca \n– – – \nResurgo Place and Symphony New Brunswick’s Ventus Machina invite you to come and ring in the Holiday Season at the Free Meeting House (built in 1821)! \nAll wrapped up for Christmas\, this year’s Holiday Concert is interactive and very entertaining\, with many sing-alongs and no shortage of festive and funny musical moments. Featuring the beloved Monette Gould as singer and sing-along leader. \nThe concert will be followed by a reception within the festively decorated lobby of Resurgo Place. Warm apple cider and tasty treats will be served. \nThe event is FREE with a donation of a non-perishable food item. \nThere are TWO SHOWTIMES to choose from: 5 pm + 7 pm \nThe Free Meeting House is located at 20 Mountain Road in Moncton\, adjacent to Resurgo Place.
URL:https://museumsofsenb.ca/event/holiday-concert/
LOCATION:Resurgo Place\, 20 Mountain Rd.\, Moncton\, New Brunswick\, E1C 2J8\, Canada
ATTACH;FMTTYPE=image/png:https://museumsofsenb.ca/wp-content/uploads/2024/11/Holiday-Concert-2024-Website.png
END:VEVENT
BEGIN:VEVENT
DTSTART;TZID=America/Halifax:20241102T163000
DTEND;TZID=America/Halifax:20241102T180000
DTSTAMP:20260421T232203
CREATED:20241028T173252Z
LAST-MODIFIED:20241028T173252Z
UID:10000005-1730565000-1730570400@museumsofsenb.ca
SUMMARY:Fall Ham & Scalloped Potato Supper
DESCRIPTION:The Annual Fall Ham and Scalloped Potato Supper will take place at the Lutz Mountain Heritage Museum on Saturday\, November 2\, 2024 from 4:30 pm to 6:00 pm. Take-outs will also be available between 5:00 pm & 5:30 pm. \nFor only $22 enjoy a home cooked ham supper with all the fixings and a delicious apple crumble for dessert! \nPlease reserve your plate in advance by: \n\nPhone: (506) 384-7719\nEmail: lutzmountainevents@gmail.com\nFB: Lutz Mountain Heritage Museum
URL:https://museumsofsenb.ca/event/fall-ham-scalloped-potato-supper/
LOCATION:Lutz Mountain Heritage Museum\, 3143 Mountain Road\, Moncton\, New Brunswick\, E1G 2X1\, Canada
ATTACH;FMTTYPE=image/jpeg:https://museumsofsenb.ca/wp-content/uploads/2024/10/Fall-Ham-Scalloped-Potato-Dinner-Nov.2.jpg
END:VEVENT
BEGIN:VEVENT
DTSTART;TZID=America/Halifax:20241025T180000
DTEND;TZID=America/Halifax:20241026T210000
DTSTAMP:20260421T232203
CREATED:20241022T165557Z
LAST-MODIFIED:20241022T165557Z
UID:10000004-1729879200-1729976400@museumsofsenb.ca
SUMMARY:Haunted Jail
DESCRIPTION:The Annual Haunted Jail will take place at the Albert County Museum on Friday\, October 25th and Saturday\, October\, 26th from 6pm to 9pm. \nJoin us at 3940 Route 114 in Hopewell Cape – only $5 per person with hot chocolate and snacks for sale. Screams are free! \nBonus: See the Albertosaurus and fossil display before the exhibit is closed – included in the $5 fee!
URL:https://museumsofsenb.ca/event/haunted-jail/
LOCATION:Albert County Museum & RB Bennett Centre\, 3940 Route 114\, Hopewell Cape\, New Brunswick\, E4H 3J8\, Canada
ATTACH;FMTTYPE=image/jpeg:https://museumsofsenb.ca/wp-content/uploads/2024/10/Haunted-Jail-2024.jpg
END:VEVENT
BEGIN:VEVENT
DTSTART;TZID=America/Halifax:20240809T100000
DTEND;TZID=America/Halifax:20240810T150000
DTSTAMP:20260421T232203
CREATED:20240710T193347Z
LAST-MODIFIED:20240729T184928Z
UID:10000003-1723197600-1723302000@museumsofsenb.ca
SUMMARY:“We Dig Dinosaurs” Children’s Festival
DESCRIPTION:Join us for the Albert County Museum Children’s Festival for special “dyno-mite” activities with “Albert” the Albertosaurus! \nFamilies\, children\, and youth are invited to these fun and engaging days of music\, arts\, crafts\, and “hands-on history”. The festival is included with paid admission. Free for children under 5 years old. Free for ACHS members.
URL:https://museumsofsenb.ca/event/we-dig-dinosaurs-childrens-festival/
LOCATION:Albert County Museum & RB Bennett Centre\, 3940 Route 114\, Hopewell Cape\, New Brunswick\, E4H 3J8\, Canada
ATTACH;FMTTYPE=image/jpeg:https://museumsofsenb.ca/wp-content/uploads/2024/07/We-Dig-Dinosaurs.jpeg
END:VEVENT
BEGIN:VEVENT
DTSTART;TZID=America/Halifax:20240713T120000
DTEND;TZID=America/Halifax:20240713T160000
DTSTAMP:20260421T232203
CREATED:20240710T192948Z
LAST-MODIFIED:20240710T194959Z
UID:10000002-1720872000-1720886400@museumsofsenb.ca
SUMMARY:Illusion of the Self\, exhibition opening
DESCRIPTION:Keillor House Museum \nDuring the summer of 2024\, the Keillor House Museum (Dorchester\, New Brunswick) is host to an unprecedented artistic exploration. This exhibition project\, conceived by the visual artist Guillaume Adjutor Provost\, grew out of a conversation with the museum’s director\, Keegan Hiltz\, about the revitalization of historical collections through contemporary art practices. \nSoif d’illusion/Illusion of the Self\, presented in the Georgian-style manor built circa 1813\, brings together works by five artists: Kyle Alden Martens\, Karen Tam\, Massimo Guerrera\, Natasha Sacobie\, and Guillaume Adjutor Provost. \nIn a play on translation\, the bilingual title invites reflection on how the perception of self may be shaped by illusions and deep desires. In this respect\, the heavily decorated spaces of the Keillor House Museum\, evidence of its founder’s ambition to conceal his modest origins and typical of Victorian attitudes\, offer an ideal setting for exploring the complexities of personal and collective identity. \nMore info here in Facebook event: \nExhibit Opening – Soif d’illusion / Illusion of the Self | Facebook
URL:https://museumsofsenb.ca/event/illusion-of-the-self-exhibition-opening/
LOCATION:Keillor House Museum\, 4974 Main Street\, Dorchester\, New Brunswick\, E4K 2Z1
ATTACH;FMTTYPE=image/jpeg:https://museumsofsenb.ca/wp-content/uploads/2024/07/Soif-dIllusion-of-the-Self.jpg
END:VEVENT
END:VCALENDAR